Workbook
Name き１６: 参加者!$A$4:$D$1027

Sheet 参加者
B3: 第16回参加者
A4: 参加者№ | B4: 氏 名 | C4: 性 別② | D4: 所 属
A5: 1 | B5: 小瀧 富子 | C5: 女 | D5: さい岩槻
A6: 2 | B6: 矢作 安子 | C6: 女 | D6: さい岩槻
A7: 3 | B7: 藤井 ヒロ子 | C7: 女 | D7: さい岩槻
A8: 4 | B8: 町田 博 | C8: 男 | D8: さい岩槻
A9: 5 | B9: 町田 民子 | C9: 女 | D9: さい岩槻
A10: 6 | B10: 森屋 カヨ子 | C10: 女 | D10: さい岩槻
A11: 7 | B11: 斉須 勝子 | C11: 女 | D11: さい岩槻
A12: 8 | B12: 黒澤 重子 | C12: 女 | D12: さい岩槻
A13: 9 | B13: 森田 静子 | C13: 女 | D13: さい岩槻
A14: 10 | B14: 新井 秀夫 | C14: 男 | D14: さい岩槻
A15: 11 | B15: 井田 貢 | C15: 男 | D15: さい岩槻
A16: 12 | B16: 久保山 和雄 | C16: 男 | D16: さい岩槻
... A359: 355 | B359: 岡村 康朗 | C359: 男 | D359: 桶川
A360: 357
A361: 358
A362: 359
A363: 360
A364: 361
A365: 362
A366: 363
A367: 364
A368: 365
A369: 366
A370: 367
A371: 368
... A585: 582
A586: 583 | B586: 久美合わせ | C586: 大宮 | D586: 男
A587: 584 | B587: 久美合わせ | C587: 大宮 | D587: 女
A588: 585 | B588: 久美合わせ | C588: 大宮 | D588: 男
A589: 586 | B589: 久美合わせ | C589: 大宮 | D589: 女
A590: 587 | B590: 久美合わせ | C590: 大宮 | D590: 男
A591: 588 | B591: 久美合わせ | C591: 大宮 | D591: 女
A592: 589 | B592: 久美合わせ | C592: 大宮 | D592: 男
A593: 590 | B593: 久美合わせ | C593: 大宮 | D593: 女
A594: 591 | B594: 久美合わせ | C594: 大宮 | D594: 男
A595: 592 | B595: 久美合わせ | C595: 大宮 | D595: 女
A596: 593 | B596: 久美合わせ | C596: 大宮 | D596: 男
A597: 594 | B597: 久美合わせ | C597: 大宮 | D597: 女
... A1027: 1024 | B1027: 久美合わせ | C1027: 大宮 | D1027: 男

Sheet Ａコート組合せ先発
A1: Aコート 先発
A2: １Ｒ Aｺｰﾄ赤旗→２Ｒ Ａｺｰﾄ青旗⇒休憩⇒ ３Ｒ Ｂｺｰﾄ黄旗→４Ｒ Ｂｺｰﾄ緑旗
A3: １Ｒ Aｺｰﾄ青旗→２Ｒ Ａｺｰﾄ赤旗⇒休憩⇒ ３Ｒ Ｂｺｰﾄ緑旗→４Ｒ Ｂｺｰﾄ黄旗
A4: 組 | B4: 参加№ | C4: 連番 | D4: 氏 名 | E4: 性別 | F4: 地区名 | H4: 組 | I4: 参加№ | J4: 連番 | K4: 氏 名 | L4: 性別 | M4: 地区名
A5: 先 | B5: 123 | C5: 1 | D5: 荒井 喜雄 | E5: 男 | F5: 春岡 | H5: 先 | I5: 87 | J5: 49 | K5: 金子 元美 | L5: 女 | M5: 指扇
A6: 赤① | B6: 315 | C6: 2 | D6: 田辺 明子 | E6: 女 | F6: 川越 | H6: 青① | I6: 67 | J6: 50 | K6: 菊池 春子 | L6: 女 | M6: さい岩槻
A7: 赤⇒青 | B7: 208 | C7: 3 | D7: 島村 義明 | E7: 男 | F7: 七里 | H7: 青⇒赤 | I7: 286 | J7: 51 | K7: 清水 迪夫 | L7: 男 | M7: 幸手
A8: 休憩 | B8: 140 | C8: 4 | D8: 大須賀 綾子 | E8: 女 | F8: 指扇 | H8: 休憩 | I8: 91 | J8: 52 | K8: 遠藤 英子 | L8: 女 | M8: 七里
A9: 黄⇒緑 | B9: 11 | C9: 5 | D9: 井田 貢 | E9: 男 | F9: さい岩槻 | H9: 緑⇒黄 | I9: 242 | J9: 53 | K9: 黒田 茂 | L9: 男 | M9: さい与野
B10: 341 | C10: 6 | D10: 森谷チヨノ | E10: 女 | F10: 桶川 | I10: 124 | J10: 54 | K10: 田中 満義 | L10: 男 | M10: 春岡
A11: 先 | B11: 133 | C11: 7 | D11: 五十嵐富美江 | E11: 女 | F11: 七里 | H11: 先 | I11: 178 | J11: 55 | K11: 麻野 順一 | L11: 男 | M11: 春岡
A12: 赤② | B12: 248 | C12: 8 | D12: 和仁 京子 | E12: 女 | F12: さい与野 | H12: 青② | I12: 342 | J12: 56 | K12: 大和田トシ子 | L12: 女 | M12: 桶川
A13: 赤⇒青 | B13: 354 | C13: 9 | D13: 小川 岩夫 | E13: 男 | F13: 桶川 | H13: 青⇒赤 | I13: 73 | J13: 57 | K13: 石田 勝行 | L13: 男 | M13: 中部
A14: 休憩 | B14: 63 | C14: 10 | D14: 深津喜代子 | E14: 女 | F14: さい岩槻 | H14: 休憩 | I14: 108 | J14: 58 | K14: 鈴木 智代 | L14: 女 | M14: 指扇
A15: 黄⇒緑 | B15: 224 | C15: 11 | D15: 丹野 好生 | E15: 男 | F15: 大砂土東 | H15: 緑⇒黄 | I15: 26 | J15: 59 | K15: 高坂 利治 | L15: 男 | M15: さい岩槻
B16: 157 | C16: 12 | D16: 斉藤 博之 | E16: 男 | F16: 片柳 | I16: 316 | J16: 60 | K16: 斉藤 秀子 | L16: 女 | M16: 川越
A17: 先 | B17: 164 | C17: 13 | D17: 中澤 亨 | E17: 男 | F17: 宮原 | H17: 先 | I17: 80 | J17: 61 | K17: 清水 廣一 | L17: 男 | M17: 宮原
A18: 赤③ | B18: 274 | C18: 14 | D18: 新井 清子 | E18: 女 | F18: 行田 | H18: 青③ | I18: 275 | J18: 62 | K18: 竹内 みな子 | L18: 女 | M18: 行田
A19: 赤⇒青 | B19: 139 | C19: 15 | D19: 安田 幸作 | E19: 男 | F19: 中部 | H19: 青⇒赤 | I19: 50 | J19: 63 | K19: 坂本 十三 | L19: 男 | M19: さい岩槻
A20: 休憩 | B20: 307 | C20: 16 | D20: 仲宗根 涼子 | E20: 女 | F20: 草加 | H20: 休憩 | I20: 239 | J20: 64 | K20: 佐藤 千津子 | L20: 女 | M20: さい与野
A21: 黄⇒緑 | B21: 14 | C21: 17 | D21: 濱野 光男 | E21: 男 | F21: さい岩槻 | H21: 緑⇒黄 | I21: 207 | J21: 65 | K21: 山崎 基克 | L21: 男 | M21: 七里
B22: 146 | C22: 18 | D22: 須藤 愛子 | E22: 女 | F22: 七里 | I22: 66 | J22: 66 | K22: 吉岩 康江 | L22: 女 | M22: さい岩槻
A23: 先 | B23: 152 | C23: 19 | D23: 源波 里子 | E23: 女 | F23: 七里 | H23: 先 | I23: 162 | J23: 67 | K23: 鈴木 政敏 | L23: 男 | M23: 南
A24: 赤④ | B24: 312 | C24: 20 | D24: 菅野 昭吉 | E24: 男 | F24: 深谷 | H24: 青④ | I24: 119 | J24: 68 | K24: 細田 友子 | L24: 女 | M24: 指扇
A25: 赤⇒青 | B25: 165 | C25: 21 | D25: 川上 孝 | E25: 女 | F25: 大砂土 | H25: 青⇒赤 | I25: 261 | J25: 69 | K25: 森泉 照夫 | L25: 男 | M25: 上尾
A26: 休憩 | B26: 17 | C26: 22 | D26: 中川 正幹 | E26: 男 | F26: さい岩槻 | H26: 休憩 | I26: 233 | J26: 70 | K26: 田中 智惠子 | L26: 女 | M26: さい与野
A27: 黄⇒緑 | B27: 234 | C27: 23 | D27: 根本 洋子 | E27: 女 | F27: さい与野 | H27: 緑⇒黄 | I27: 141 | J27: 71 | K27: 伊藤 健 | L27: 男 | M27: 七里
B28: 144 | C28: 24 | D28: 奥山 幸正 | E28: 男 | F28: 春岡 | I28: 36 | J28: 72 | K28: 朝倉 ヒサ子 | L28: 女 | M28: さい岩槻
A29: 先 | B29: 160 | C29: 25 | D29: 棚木 広治 | E29: 男 | F29: 片柳 | H29: 先 | I29: 201 | J29: 73 | K29: 狩野 敬子 | L29: 女 | M29: 七里
A30: 赤⑤ | B30: 175 | C30: 26 | D30: 樋口 美智子 | E30: 女 | F30: 七里 | H30: 青⑤ | I30: 2 | J30: 74 | K30: 矢作 安子 | L30: 女 | M30: さい岩槻
A31: 赤⇒青 | B31: 237 | C31: 27 | D31: 池田 幸子 | E31: 女 | F31: さい与野 | H31: 青⇒赤 | I31: 332 | J31: 75 | K31: 岡田 耕作 | L31: 男 | M31: 伊奈
A32: 休憩 | B32: 272 | C32: 28 | D32: 中島 吉徳 | E32: 男 | F32: 上尾 | H32: 休憩 | I32: 68 | J32: 76 | K32: 添田 昌孝 | L32: 男 | M32: 大砂土東
A33: 黄⇒緑 | B33: 86 | C33: 29 | D33: 小久保せつ子 | E33: 女 | F33: 指扇 | H33: 緑⇒黄 | I33: 88 | J33: 77 | K33: 角田 善貞 | L33: 男 | M33: 植水
B34: 23 | C34: 30 | D34: 小川 信勝 | E34: 男 | F34: さい岩槻 | I34: 254 | J34: 78 | K34: 小林 道子 | L34: 女 | M34: さい与野
A35: 先 | B35: 188 | C35: 31 | D35: 田中 一男 | E35: 男 | F35: 七里 | H35: 先 | I35: 156 | J35: 79 | K35: 野地 勝治 | L35: 男 | M35: 七里
A36: 赤⑥ | B36: 148 | C36: 32 | D36: 彼ノ矢 和子 | E36: 女 | F36: 片柳 | H36: 青⑥ | I36: 166 | J36: 80 | K36: 生方 ゑみ子 | L36: 女 | M36: 大砂土
A37: 赤⇒青 | B37: 5 | C37: 33 | D37: 町田 民子 | E37: 女 | F37: さい岩槻 | H37: 青⇒赤 | I37: 353 | J37: 81 | K37: 原島 一夫 | L37: 男 | M37: 桶川
A38: 休憩 | B38: 287 | C38: 34 | D38: 齊藤 利男 | E38: 男 | F38: 幸手 | H38: 休憩 | I38: 167 | J38: 82 | K38: 青木 清子 | L38: 女 | M38: 指扇
A39: 黄⇒緑 | B39: 183 | C39: 35 | D39: 松井 由美子 | E39: 女 | F39: 大砂土東 | H39: 緑⇒黄 | I39: 24 | J39: 83 | K39: 中村 富蔵 | L39: 男 | M39: さい岩槻
B40: 331 | C40: 36 | D40: 岡田 武久 | E40: 男 | F40: 伊奈 | I40: 238 | J40: 84 | K40: 鈴木 峰子 | L40: 女 | M40: さい与野
A41: 先 | B41: 220 | C41: 37 | D41: 国島 秀夫 | E41: 男 | F41: 指扇 | H41: 先 | I41: 145 | J41: 85 | K41: 染谷 利一 | L41: 男 | M41: 七里
A42: 赤⑦ | B42: 244 | C42: 38 | D42: 都丸 多可 | E42: 女 | F42: さい与野 | H42: 青⑦ | I42: 282 | J42: 86 | K42: 青木 洋子 | L42: 女 | M42: 幸手
A43: 赤⇒青 | B43: 147 | C43: 39 | D43: 増山 弘己 | E43: 男 | F43: 七里 | H43: 青⇒赤 | I43: 104 | J43: 87 | K43: 見留 利夫 | L43: 男 | M43: 片柳
A44: 休憩 | B44: 281 | C44: 40 | D44: 西脇 廸子 | E44: 女 | F44: 幸手 | H44: 休憩 | I44: 243 | J44: 88 | K44: 高橋 道子 | L44: 女 | M44: さい与野
A45: 黄⇒緑 | B45: 109 | C45: 41 | D45: 内田 貞藏 | E45: 男 | F45: 春岡 | H45: 緑⇒黄 | I45: 33 | J45: 89 | K45: 作馬 悟 | L45: 男 | M45: さい岩槻
B46: 55 | C46: 42 | D46: 大沢 正江 | E46: 女 | F46: さい岩槻 | I46: 231 | J46: 90 | K46: 大下内 則雄 | L46: 男 | M46: 春岡
A47: 先 | B47: 74 | C47: 43 | D47: 鈴木 公代 | E47: 女 | F47: 南 | H47: 先 | I47: 181 | J47: 91 | K47: 会田 教之 | L47: 男 | M47: 片柳
A48: ⑧ | B48: 99 | C48: 44 | D48: 浅子 一夫 | E48: 男 | F48: 春岡 | H48: 青⑧ | I48: 39 | J48: 92 | K48: 市原 蔦子 | L48: 女 | M48: さい岩槻
A49: 赤⇒青 | B49: 53 | C49: 45 | D49: 伊藤 徳雄 | E49: 男 | F49: さい岩槻 | H49: 青⇒赤 | I49: 291 | J49: 93 | K49: 伊藤 東子 | L49: 女 | M49: 草加
A50: 休憩 | B50: 283 | C50: 46 | D50: 大川 洋子 | E50: 女 | F50: 幸手 | H50: 休憩 | I50: 71 | J50: 94 | K50: 渡邊 健二 | L50: 男 | M50: 春岡
A51: 黄⇒緑 | B51: 226 | C51: 47 | D51: 大野 義男 | E51: 男 | F51: 七里 | H51: 緑⇒黄 | I51: 249 | J51: 95 | K51: 深井 祐子 | L51: 女 | M51: さい与野
B52: 6 | C52: 48 | D52: 森屋 カヨ子 | E52: 女 | F52: さい岩槻 | G52: 3 | I52: 22 | J52: 96 | K52: 中村 勇 | L52: 男 | M52: さい岩槻

Sheet Ｂコート組合せ先発 (3)
A1: Ｂコート 先発
A2: １Ｒ Ｂｺｰﾄ黄旗→２Ｒ Ｂｺｰﾄ緑旗⇒休憩⇒ ３Ｒ Ａｺｰﾄ赤旗→４Ｒ Ａｺｰﾄ青旗
A3: １Ｒ Ｂｺｰﾄ緑旗→２Ｒ Ｂｺｰﾄ黄旗⇒休憩⇒ ３Ｒ Ａｺｰﾄ青旗→４Ｒ Ａｺｰﾄ赤旗
A4: 組 | B4: 参加№ | C4: 連番 | D4: 氏 名 | E4: 性別 | F4: 地区名 | H4: 組 | I4: 参加№ | J4: 連番 | K4: 氏 名 | L4: 性別 | M4: 地区名
A5: 先 | B5: 75 | C5: 97 | D5: 越 光子 | E5: 女 | F5: 南 | H5: 先 | I5: 153 | J5: 145 | K5: 切敷 鉄之助 | L5: 男 | M5: 宮原
A6: 黄① | B6: 35 | C6: 98 | D6: 赤羽 義男 | E6: 男 | F6: さい岩槻 | H6: 緑① | I6: 296 | J6: 146 | K6: 阿部 義則 | L6: 男 | M6: 草加
A7: 黄⇒緑 | B7: 116 | C7: 99 | D7: 市川 千枝子 | E7: 女 | F7: 春岡 | H7: 緑⇒黄 | I7: 134 | J7: 147 | K7: 田中 洋子 | L7: 女 | M7: 春岡
A8: 休憩 | B8: 268 | C8: 100 | D8: 吉益 督 | E8: 男 | F8: 上尾 | H8: 休憩 | I8: 267 | J8: 148 | K8: 大島 照男 | L8: 男 | M8: 上尾
A9: 赤⇒青 | B9: 115 | C9: 101 | D9: 池田 公輔 | E9: 男 | F9: 七里 | H9: 青⇒赤 | I9: 184 | J9: 149 | K9: 塚脇 勝子 | L9: 女 | M9: 七里
B10: 295 | C10: 102 | D10: 石塚 雅江 | E10: 女 | F10: 草加 | I10: 44 | J10: 150 | K10: 原田 忠 | L10: 男 | M10: さい岩槻
A11: 先 | B11: 105 | C11: 103 | D11: 飯島 靜子 | E11: 女 | F11: 片柳 | H11: 先 | I11: 143 | J11: 151 | K11: 黒須 満枝 | L11: 女 | M11: 大砂土東
A12: 黄② | B12: 236 | C12: 104 | D12: 上西 忠利 | E12: 男 | F12: さい与野 | H12: 緑② | I12: 229 | J12: 152 | K12: 中田 逸男 | L12: 男 | M12: 七里
A13: 黄⇒緑 | B13: 3 | C13: 105 | D13: 藤井 ヒロ子 | E13: 女 | F13: さい岩槻 | H13: 緑⇒黄 | I13: 333 | J13: 153 | K13: 岡田 恵美子 | L13: 女 | M13: 伊奈
A14: 休憩 | B14: 314 | C14: 106 | D14: 櫻澤 幹雄 | E14: 男 | F14: 深谷 | H14: 休憩 | I14: 304 | J14: 154 | K14: 石塚 章 | L14: 男 | M14: 草加
A15: 赤⇒青 | B15: 70 | C15: 107 | D15: 高島 節子 | E15: 女 | F15: 春岡 | H15: 青⇒赤 | I15: 211 | J15: 155 | K15: 松本 はま | L15: 女 | M15: 春岡
B16: 294 | C16: 108 | D16: 日向 六郎 | E16: 男 | F16: 草加 | I16: 47 | J16: 156 | K16: 田中 一巳 | L16: 男 | M16: さい岩槻
A17: 先 | B17: 137 | C17: 109 | D17: 高山 宜夫 | E17: 男 | F17: 南 | H17: 先 | I17: 118 | J17: 157 | K17: 遠藤 渉 | L17: 男 | M17: 七里
A18: 黄③ | B18: 317 | C18: 110 | D18: 髙橋 初江 | E18: 女 | F18: 川越 | H18: 緑③ | I18: 4 | J18: 158 | K18: 町田 博 | L18: 男 | M18: さい岩槻
A19: 黄⇒緑 | B19: 210 | C19: 111 | D19: 城川 一男 | E19: 男 | F19: 大砂土東 | H19: 緑⇒黄 | I19: 346 | J19: 159 | K19: 金子 寛子 | L19: 女 | M19: 桶川
A20: 休憩 | B20: 163 | C20: 112 | D20: 榊原 章子 | E20: 女 | F20: 片柳 | H20: 休憩 | I20: 85 | J20: 160 | K20: 麻原 武夫 | L20: 男 | M20: 中部
A21: 赤⇒青 | B21: 18 | C21: 113 | D21: 矢作 順作 | E21: 男 | F21: さい岩槻 | H21: 青⇒赤 | I21: 321 | J21: 161 | K21: 笠貫 正子 | L21: 女 | M21: 川越
B22: 185 | C22: 114 | D22: 上原 照子 | E22: 女 | F22: 七里 | I22: 150 | J22: 162 | K22: 小川 正直 | L22: 男 | M22: 片柳
A23: 先 | B23: 173 | C23: 115 | D23: 青木 茂樹 | E23: 男 | F23: 七里 | H23: 先 | I23: 151 | J23: 163 | K23: 大久保 仁美 | L23: 男 | M23: 春岡
A24: 黄④ | B24: 297 | C24: 116 | D24: 太田 久子 | E24: 女 | F24: 草加 | H24: 緑④ | I24: 276 | J24: 164 | K24: 栗原 常郎 | L24: 男 | M24: 行田
A25: 黄⇒緑 | B25: 199 | C25: 117 | D25: 根本 勤 | E25: 男 | F25: 大砂土東 | H25: 緑⇒黄 | I25: 46 | J25: 165 | K25: 澄川 春子 | L25: 女 | M25: さい岩槻
A26: 休憩 | B26: 1 | C26: 118 | D26: 小瀧 富子 | E26: 女 | F26: さい岩槻 | H26: 休憩 | I26: 302 | J26: 166 | K26: 森田 秀男 | L26: 男 | M26: 草加
A27: 赤⇒青 | B27: 351 | C27: 119 | D27: 石坂 栄司 | E27: 男 | F27: 桶川 | H27: 青⇒赤 | I27: 90 | J27: 167 | K27: 鈴木 美智子 | L27: 女 | M27: 七里
B28: 221 | C28: 120 | D28: 宮野 久江 | E28: 女 | F28: 春岡 | I28: 240 | J28: 168 | K28: 植木 豊 | L28: 男 | M28: さい与野
A29: 先 | B29: 77 | C29: 121 | D29: 秋山 悦 | E29: 男 | F29: 指扇 | H29: 先 | I29: 177 | J29: 169 | K29: 林 幸男 | L29: 男 | M29: 春岡
A30: 黄⑤ | B30: 92 | C30: 122 | D30: 西村 江津子 | E30: 女 | F30: 七里 | H30: 緑⑤ | I30: 114 | J30: 170 | K30: 島村 節子 | L30: 女 | M30: 七里
A31: 黄⇒緑 | B31: 309 | C31: 123 | D31: 櫻澤 千賀子 | E31: 女 | F31: 深谷 | H31: 緑⇒黄 | I31: 269 | J31: 171 | K31: 小峯 富夫 | L31: 男 | M31: 上尾
A32: 休憩 | B32: 158 | C32: 124 | D32: 石田 徹 | E32: 男 | F32: 片柳 | H32: 休憩 | I32: 110 | J32: 172 | K32: 黒須 信江 | L32: 女 | M32: 南
A33: 赤⇒青 | B33: 8 | C33: 125 | D33: 黒澤 重子 | E33: 女 | F33: さい岩槻 | H33: 青⇒赤 | I33: 247 | J33: 173 | K33: 和仁 正夫 | L33: 男 | M33: さい与野
B34: 329 | C34: 126 | D34: 発知 眞二 | E34: 男 | F34: 川越 | I34: 25 | J34: 174 | K34: 小倉 美津江 | L34: 女 | M34: さい岩槻
A35: 先 | B35: 130 | C35: 127 | D35: 坂口 三男 | E35: 男 | F35: 春岡 | H35: 先 | I35: 117 | J35: 175 | K35: 和泉 倫子 | L35: 女 | M35: 七里
A36: 黄⑥ | B36: 28 | C36: 128 | D36: 内山 和子 | E36: 女 | F36: さい岩槻 | H36: 緑⑥ | I36: 43 | J36: 176 | K36: 西田 正男 | L36: 男 | M36: さい岩槻
A37: 黄⇒緑 | B37: 355 | C37: 129 | D37: 岡村 康朗 | E37: 男 | F37: 桶川 | H37: 緑⇒黄 | I37: 313 | J37: 177 | K37: 佐竹 八重子 | L37: 女 | M37: 深谷
A38: 休憩 | B38: 84 | C38: 130 | D38: 齊藤 美智子 | E38: 女 | F38: 中部 | H38: 休憩 | I38: 206 | J38: 178 | K38: 五井 秀司 | L38: 男 | M38: 指扇
A39: 赤⇒青 | B39: 232 | C39: 131 | D39: 小林 瀧夫 | E39: 男 | F39: さい与野 | H39: 青⇒赤 | I39: 159 | J39: 179 | K39: 会田 啓子 | L39: 女 | M39: 片柳
B40: 225 | C40: 132 | D40: 鈴木 栄 | E40: 女 | F40: 七里 | I40: 322 | J40: 180 | K40: 笠貫 登 | L40: 男 | M40: 川越
A41: 先 | B41: 122 | C41: 133 | D41: 稲橋 ケイ子 | E41: 女 | F41: 七里 | H41: 先 | I41: 102 | J41: 181 | K41: 島田 敏和 | L41: 男 | M41: 七里
A42: 黄⑦ | B42: 222 | C42: 134 | D42: 石田 久美子 | E42: 女 | F42: 片柳 | H42: 緑⑦ | I42: 41 | J42: 182 | K42: 荒川 直代 | L42: 女 | M42: さい岩槻
A43: 黄⇒緑 | B43: 335 | C43: 135 | D43: 星野 晃三 | E43: 男 | F43: 伊奈 | H43: 緑⇒黄 | I43: 271 | J43: 183 | K43: 清野 英明 | L43: 男 | M43: 上尾
A44: 休憩 | B44: 299 | C44: 136 | D44: 谷口ユキ子 | E44: 女 | F44: 草加 | H44: 休憩 | I44: 127 | J44: 184 | K44: 大島 正子 | L44: 女 | M44: 大砂土東
A45: 赤⇒青 | B45: 155 | C45: 137 | D45: 夏目 甚一 | E45: 男 | F45: 大砂土 | H45: 青⇒赤 | I45: 330 | J45: 185 | K45: 水村 光夫 | L45: 男 | M45: 川越
B46: 13 | C46: 138 | D46: 三上 玲子 | E46: 女 | F46: さい岩槻 | I46: 20 | J46: 186 | K46: 土屋 すみ子 | L46: 女 | M46: さい岩槻
A47: 先 | B47: 190 | C47: 139 | D47: 矢吹 勝明 | E47: 男 | F47: 春岡 | H47: 先 | I47: 168 | J47: 187 | K47: 木原 平次郎 | L47: 男 | M47: 片柳
A48: 黄⑧ | B48: 325 | C48: 140 | D48: 岩本 白子 | E48: 女 | F48: 川越 | H48: 緑⑧ | I48: 245 | J48: 188 | K48: 多々野 利子 | L48: 女 | M48: さい与野
A49: 黄⇒緑 | B49: 172 | C49: 141 | D49: 大嶋 隆 | E49: 男 | F49: 七里 | H49: 緑⇒黄 | I49: 352 | J49: 189 | K49: 吉川登志雄 | L49: 男 | M49: 桶川
A50: 休憩 | B50: 285 | C50: 142 | D50: 後藤 光江 | E50: 女 | F50: 幸手 | H50: 休憩 | I50: 218 | J50: 190 | K50: 関口 初江 | L50: 女 | M50: 七里
A51: 赤⇒青 | B51: 34 | C51: 143 | D51: 那須 新喜 | E51: 男 | F51: さい岩槻 | H51: 青⇒赤 | I51: 27 | J51: 191 | K51: 田中 清 | L51: 男 | M51: さい岩槻
B52: 186 | C52: 144 | D52: 畠山 栄子 | E52: 女 | F52: 片柳 | G52: 4 | I52: 334 | J52: 192 | K52: 中村栄都子 | L52: 女 | M52: 伊奈

Sheet Ａコート組合せ後発 (2)
A1: Aコート 後発
A2: １Ｒ Aｺｰﾄ赤旗→２Ｒ Ａｺｰﾄ青旗⇒休憩⇒ ３Ｒ Ｂｺｰﾄ黄旗→４Ｒ Ｂｺｰﾄ緑旗
A3: １Ｒ Aｺｰﾄ青旗→２Ｒ Ａｺｰﾄ赤旗⇒休憩⇒ ３Ｒ Ｂｺｰﾄ緑旗→４Ｒ Ｂｺｰﾄ黄旗
A4: 組 | B4: 参加№ | C4: 連番 | D4: 氏 名 | E4: 性別 | F4: 地区名 | H4: 組 | I4: 参加№ | J4: 連番 | K4: 氏 名 | L4: 性別 | M4: 地区名
A5: 後 | B5: 89 | C5: 193 | D5: 林 俊子 | E5: 女 | F5: 片柳 | H5: 後 | I5: 121 | J5: 234 | K5: 平田 朝子 | L5: 女 | M5: 片柳
A6: 赤① | B6: 320 | C6: 194 | D6: 天野 隆司 | E6: 男 | F6: 川越 | H6: 青① | I6: 61 | J6: 235 | K6: 高橋 輝行 | L6: 男 | M6: さい岩槻
A7: 赤⇒青 | B7: 79 | C7: 195 | D7: 森 恵美子 | E7: 女 | F7: 南 | H7: 青⇒赤 | I7: 262 | J7: 236 | K7: 石川 春江 | L7: 女 | M7: 上尾
A8: 休憩 | B8: 344 | C8: 196 | D8: 島村 宣次 | E8: 男 | F8: 桶川 | H8: 休憩 | I8: 216 | J8: 237 | K8: 小野寺 澄江 | L8: 女 | M8: 七里
A9: 黄⇒緑 | B9: 15 | C9: 197 | D9: 栗原 よし子 | E9: 女 | F9: さい岩槻 | H9: 緑⇒黄 | I9: 197 | J9: 238 | K9: 天沼 尚文 | L9: 男 | M9: 日進
A11: 後 | B11: 72 | C11: 198 | D11: 三輪 文男 | E11: 男 | F11: 大砂土東 | H11: 後 | I11: 204 | J11: 239 | K11: 原 俊之 | L11: 男 | M11: 春岡
A12: 赤② | B12: 7 | C12: 199 | D12: 斉須 勝子 | E12: 女 | F12: さい岩槻 | H12: 青② | I12: 292 | J12: 240 | K12: 髙橋二三子 | L12: 女 | M12: 草加
A13: 赤⇒青 | B13: 336 | C13: 200 | D13: 古瀬 修策 | E13: 男 | F13: 伊奈 | H13: 青⇒赤 | I13: 196 | J13: 241 | K13: 大谷 仁 | L13: 男 | M13: 宮原
A14: 休憩 | B14: 95 | C14: 201 | D14: 金井塚江美子 | E14: 女 | F14: 春岡 | H14: 休憩 | I14: 9 | J14: 242 | K14: 森田 静子 | L14: 女 | M14: さい岩槻
A15: 黄⇒緑 | B15: 298 | C15: 202 | D15: 神門 哲夫 | E15: 男 | F15: 草加 | H15: 緑⇒黄 | I15: 345 | J15: 243 | K15: 青木 古致 | L15: 男 | M15: 桶川
A17: 後 | B17: 113 | C17: 203 | D17: 木村 やい子 | E17: 女 | F17: 指扇 | H17: 後 | I17: 131 | J17: 244 | K17: 小池 弘文 | L17: 男 | M17: 春岡
A18: 赤③ | B18: 293 | C18: 204 | D18: 若林 重雄 | E18: 男 | F18: 草加 | H18: 青③ | I18: 59 | J18: 245 | K18: 池田 奨 | L18: 男 | M18: さい岩槻
... A33: 黄⇒緑 | B33: 198 | C33: 217 | D33: 土方 セイ子 | E33: 女 | F33: 大砂土東 | H33: 緑⇒黄 | I33: 154 | J33: 258 | K33: 天野 正 | L33: 男 | M33: 大砂土
B34: 347 | C34: 218 | D34: 上利 綾子 | E34: 女 | F34: 桶川 | I34: 203 | J34: 259 | K34: 二宮 せつ子 | L34: 女 | M34: 七里
A35: 後 | B35: 100 | C35: 219 | D35: 森戸 孝夫 | E35: 男 | F35: 春岡 | H35: 後 | I35: 106 | J35: 260 | K35: 柴 正之 | L35: 男 | M35: 七里
A36: 赤⑥ | B36: 32 | C36: 220 | D36: 巴山 富子 | E36: 女 | F36: さい岩槻 | H36: 青⑥ | I36: 30 | J36: 261 | K36: 内山 トミ子 | L36: 女 | M36: さい岩槻
A37: 赤⇒青 | B37: 338 | C37: 221 | D37: 坪野 昭夫 | E37: 男 | F37: 伊奈 | H37: 青⇒赤 | I37: 311 | J37: 262 | K37: 鈴木 義男 | L37: 男 | M37: 深谷
A38: 休憩 | B38: 176 | C38: 222 | D38: 野澤 栄子 | E38: 女 | F38: 指扇 | H38: 休憩 | I38: 246 | J38: 263 | K38: 加藤 眞智子 | L38: 女 | M38: さい与野
A39: 黄⇒緑 | B39: 324 | C39: 223 | D39: 中村 武士 | E39: 男 | F39: 川越 | H39: 緑⇒黄 | I39: 169 | J39: 264 | K39: 阿部 国雄 | L39: 男 | M39: 片柳
A41: 後 | B41: 187 | C41: 224 | D41: 斉藤 一郎 | E41: 男 | F41: 片柳 | H41: 後 | I41: 180 | J41: 265 | K41: 栗原 孝信 | L41: 男 | M41: 大砂土東
A42: 赤⑦ | B42: 179 | C42: 225 | D42: 宮澤 一男 | E42: 男 | F42: 大砂土東 | H42: 青⑦ | I42: 37 | J42: 266 | K42: 坂間 静江 | L42: 女 | M42: さい岩槻
A43: 赤⇒青 | B43: 252 | C43: 226 | D43: 高野 久佐子 | E43: 女 | F43: さい与野 | H43: 青⇒赤 | I43: 349 | J43: 267 | K43: 伊藤 文江 | L43: 女 | M43: 桶川
A44: 休憩 | B44: 200 | C44: 227 | D44: 豊嶋 孝俊 | E44: 男 | F44: 七里 | H44: 休憩 | I44: 212 | J44: 268 | K44: 高久 孝夫 | L44: 男 | M44: 片柳
A45: 黄⇒緑 | B45: 29 | C45: 228 | D45: 吉田 智江 | E45: 女 | F45: さい岩槻 | H45: 緑⇒黄 | I45: 251 | J45: 269 | K45: 山崎 きん子 | L45: 女 | M45: さい与野
A47: 後 | B47: 182 | C47: 229 | D47: 酒井 康之 | E47: 男 | F47: 日進 | H47: 後 | I47: 93 | J47: 270 | K47: 池上 謙佑 | L47: 男 | M47: 七里
A48: ⑧ | B48: 300 | C48: 230 | D48: 小櫃 英夫 | E48: 男 | F48: 草加 | H48: 青⑧ | I48: 350 | J48: 271 | K48: 石引喜久江 | L48: 女 | M48: 桶川
... A51: 黄⇒緑 | B51: 65 | C51: 233 | D51: 森本 春河 | E51: 女 | F51: さい岩槻 | H51: 緑⇒黄 | I51: 129 | J51: 274 | K51: 飯島 政一 | L51: 男 | M51: 春岡
G52: 5

Sheet Ｂコート組合せ後発 (4)
A1: Ｂコート 後発
A2: １Ｒ Ｂｺｰﾄ黄旗→２Ｒ Ｂｺｰﾄ緑旗⇒休憩⇒ ３Ｒ Ａｺｰﾄ赤旗→４Ｒ Ａｺｰﾄ青旗
A3: １Ｒ Ｂｺｰﾄ緑旗→２Ｒ Ｂｺｰﾄ黄旗⇒休憩⇒ ３Ｒ Ａｺｰﾄ青旗→４Ｒ Ａｺｰﾄ赤旗
A4: 組 | B4: 参加№ | C4: 連番 | D4: 氏 名 | E4: 性別 | F4: 地区名 | H4: 組 | J4: 連番 | K4: 氏 名 | L4: 性別 | M4: 地区名
A5: 後 | B5: 112 | C5: 275 | D5: 鈴木 康吉 | E5: 男 | F5: 春岡 | H5: 後 | I5: 142 | J5: 316 | K5: 早川 かず子 | L5: 女 | M5: 春岡
A6: 黄① | B6: 128 | C6: 276 | D6: 松本 賢一 | E6: 男 | F6: 植水 | H6: 緑① | I6: 284 | J6: 317 | K6: 髙田 利子 | L6: 女 | M6: 幸手
A7: 黄⇒緑 | B7: 270 | C7: 277 | D7: 西尾 幸代 | E7: 女 | F7: 上尾 | H7: 緑⇒黄 | I7: 170 | J7: 318 | K7: 野澤 俊雄 | L7: 男 | M7: 指扇
A8: 休憩 | B8: 10 | C8: 278 | D8: 新井 秀夫 | E8: 男 | F8: さい岩槻 | H8: 休憩 | I8: 260 | J8: 319 | K8: 渡部 和子 | L8: 女 | M8: さい与野
A9: 赤⇒青 | B9: 228 | C9: 279 | D9: 久慈 文子 | E9: 女 | F9: 七里 | H9: 青⇒赤 | I9: 12 | J9: 320 | K9: 久保山 和雄 | L9: 男 | M9: さい岩槻
A11: 後 | B11: 136 | C11: 280 | D11: 永井美登里 | E11: 女 | F11: 七里 | H11: 後 | I11: 94 | J11: 321 | K11: 大金 節子 | L11: 女 | M11: 七里
A12: 黄② | B12: 306 | C12: 281 | D12: 嶋田 秀雄 | E12: 男 | F12: 草加 | H12: 緑② | I12: 319 | J12: 322 | K12: 新井 幸雄 | L12: 男 | M12: 川越
A13: 黄⇒緑 | B13: 82 | C13: 282 | D13: 明石 美幸 | E13: 女 | F13: 大砂土東 | H13: 緑⇒黄 | I13: 38 | J13: 323 | K13: 中村 由利子 | L13: 女 | M13: さい岩槻
A14: 休憩 | B14: 58 | C14: 283 | D14: 中丸 武夫 | E14: 男 | F14: さい岩槻 | H14: 休憩 | I14: 273 | J14: 324 | K14: 髙橋 六郎 | L14: 男 | M14: 上尾
A15: 赤⇒青 | B15: 280 | C15: 284 | D15: 奥村 登美子 | E15: 女 | F15: 幸手 | H15: 青⇒赤 | I15: 98 | J15: 325 | K15: 岡本 友子 | L15: 女 | M15: 春岡
A17: 後 | B17: 69 | C17: 285 | D17: 林 永子 | E17: 女 | F17: 指扇 | H17: 後 | I17: 192 | J17: 326 | K17: 千葉 幸子 | L17: 女 | M17: 七里
A18: 黄③ | B18: 19 | C18: 286 | D18: 鈴木 輝志郎 | E18: 男 | F18: さい岩槻 | H18: 緑③ | I18: 48 | J18: 327 | K18: 多ヶ谷 保男 | L18: 男 | M18: さい岩槻
... A51: 赤⇒青 | B51: 76 | C51: 314 | D51: 斉藤 保夫 | E51: 男 | F51: 指扇 | H51: 青⇒赤 | I51: 213 | J51: 355 | K51: 多田 清志 | L51: 男 | M51: 片柳
B52: 45 | C52: 315 | D52: 新井 節子 | E52: 女 | F52: さい岩槻 | G52: 6

Sheet 受付用
B2: 第16回大宮グランド・ゴルフ大会所属別スタートホール案内
B4: 連番 | C4: 氏名 | D4: 性別 | E4: 所属 | F4: 班 | G4: ﾌﾞﾛｯｸ | H4: コース | I4: ホール | J4: 打順
A5: =Ａコート組合せ先発!B5 -> 123 | B5: 1 | C5: 荒井 喜雄 | D5: 男 | E5: 春岡 | F5: 前 | G5: Ａ | H5: 赤 | I5: 1 | J5: 1
A6: =Ａコート組合せ先発!B6 -> 315 | B6: 2 | C6: 田辺 明子 | D6: 女 | E6: 川越 | F6: 前 | G6: Ａ | H6: 赤 | I6: 1 | J6: 2
A7: =Ａコート組合せ先発!B7 -> 208 | B7: 3 | C7: 島村 義明 | D7: 男 | E7: 七里 | F7: 前 | G7: Ａ | H7: 赤 | I7: 1 | J7: 3
A8: =Ａコート組合せ先発!B8 -> 140 | B8: 4 | C8: 大須賀 綾子 | D8: 女 | E8: 指扇 | F8: 前 | G8: Ａ | H8: 赤 | I8: 1 | J8: 4
A9: =Ａコート組合せ先発!B9 -> 11 | B9: 5 | C9: 井田 貢 | D9: 男 | E9: さい岩槻 | F9: 前 | G9: Ａ | H9: 赤 | I9: 1 | J9: 5
A10: =Ａコート組合せ先発!B10 -> 341 | B10: 6 | C10: 森谷チヨノ | D10: 女 | E10: 桶川 | F10: 前 | G10: Ａ | H10: 赤 | I10: 1 | J10: 6
A11: =Ａコート組合せ先発!B11 -> 133 | B11: 7 | C11: 五十嵐富美江 | D11: 女 | E11: 七里 | F11: 前 | G11: Ａ | H11: 赤 | I11: 2 | J11: 1
A12: =Ａコート組合せ先発!B12 -> 248 | B12: 8 | C12: 和仁 京子 | D12: 女 | E12: さい与野 | F12: 前 | G12: Ａ | H12: 赤 | I12: 2 | J12: 2
A13: =Ａコート組合せ先発!B13 -> 354 | B13: 9 | C13: 小川 岩夫 | D13: 男 | E13: 桶川 | F13: 前 | G13: Ａ | H13: 赤 | I13: 2 | J13: 3
A14: =Ａコート組合せ先発!B14 -> 63 | B14: 10 | C14: 深津喜代子 | D14: 女 | E14: さい岩槻 | F14: 前 | G14: Ａ | H14: 赤 | I14: 2 | J14: 4
A15: =Ａコート組合せ先発!B15 -> 224 | B15: 11 | C15: 丹野 好生 | D15: 男 | E15: 大砂土東 | F15: 前 | G15: Ａ | H15: 赤 | I15: 2 | J15: 5
A16: =Ａコート組合せ先発!B16 -> 157 | B16: 12 | C16: 斉藤 博之 | D16: 男 | E16: 片柳 | F16: 前 | G16: Ａ | H16: 赤 | I16: 2 | J16: 6
... A52: =Ａコート組合せ先発!B52 -> 6 | B52: 48 | C52: 森屋 カヨ子 | D52: 女 | E52: さい岩槻 | F52: 前 | G52: Ａ | H52: 赤 | I52: 8 | J52: 6
A53: =Ａコート組合せ先発!I5 -> 87 | B53: 49 | C53: 金子 元美 | D53: 女 | E53: 指扇 | F53: 前 | G53: Ａ | H53: 青 | I53: 1 | J53: 1
A54: =Ａコート組合せ先発!I6 -> 67 | B54: 50 | C54: 菊池 春子 | D54: 女 | E54: さい岩槻 | F54: 前 | G54: Ａ | H54: 青 | I54: 1 | J54: 2
A55: =Ａコート組合せ先発!I7 -> 286 | B55: 51 | C55: 清水 迪夫 | D55: 男 | E55: 幸手 | F55: 前 | G55: Ａ | H55: 青 | I55: 1 | J55: 3
A56: =Ａコート組合せ先発!I8 -> 91 | B56: 52 | C56: 遠藤 英子 | D56: 女 | E56: 七里 | F56: 前 | G56: Ａ | H56: 青 | I56: 1 | J56: 4
A57: =Ａコート組合せ先発!I9 -> 242 | B57: 53 | C57: 黒田 茂 | D57: 男 | E57: さい与野 | F57: 前 | G57: Ａ | H57: 青 | I57: 1 | J57: 5
A58: =Ａコート組合せ先発!I10 -> 124 | B58: 54 | C58: 田中 満義 | D58: 男 | E58: 春岡 | F58: 前 | G58: Ａ | H58: 青 | I58: 1 | J58: 6
A59: =Ａコート組合せ先発!I11 -> 178 | B59: 55 | C59: 麻野 順一 | D59: 男 | E59: 春岡 | F59: 前 | G59: Ａ | H59: 青 | I59: 2 | J59: 1
A60: =Ａコート組合せ先発!I12 -> 342 | B60: 56 | C60: 大和田トシ子 | D60: 女 | E60: 桶川 | F60: 前 | G60: Ａ | H60: 青 | I60: 2 | J60: 2
A61: =Ａコート組合せ先発!I13 -> 73 | B61: 57 | C61: 石田 勝行 | D61: 男 | E61: 中部 | F61: 前 | G61: Ａ | H61: 青 | I61: 2 | J61: 3
A62: =Ａコート組合せ先発!I14 -> 108 | B62: 58 | C62: 鈴木 智代 | D62: 女 | E62: 指扇 | F62: 前 | G62: Ａ | H62: 青 | I62: 2 | J62: 4
A63: =Ａコート組合せ先発!I15 -> 26 | B63: 59 | C63: 高坂 利治 | D63: 男 | E63: さい岩槻 | F63: 前 | G63: Ａ | H63: 青 | I63: 2 | J63: 5
A64: =Ａコート組合せ先発!I16 -> 316 | B64: 60 | C64: 斉藤 秀子 | D64: 女 | E64: 川越 | F64: 前 | G64: Ａ | H64: 青 | I64: 2 | J64: 6
... A100: =Ａコート組合せ先発!I52 -> 22 | B100: 96 | C100: 中村 勇 | D100: 男 | E100: さい岩槻 | F100: 前 | G100: Ａ | H100: 青 | I100: 8 | J100: 6
A101: ='Ｂコート組合せ先発 (3)'!B5 -> 75 | B101: 97 | C101: 越 光子 | D101: 女 | E101: 南 | F101: 前 | G101: Ｂ | H101: 黄 | I101: 1 | J101: 1
A102: ='Ｂコート組合せ先発 (3)'!B6 -> 35 | B102: 98 | C102: 赤羽 義男 | D102: 男 | E102: さい岩槻 | F102: 前 | G102: Ｂ | H102: 黄 | I102: 1 | J102: 2
A103: ='Ｂコート組合せ先発 (3)'!B7 -> 116 | B103: 99 | C103: 市川 千枝子 | D103: 女 | E103: 春岡 | F103: 前 | G103: Ｂ | H103: 黄 | I103: 1 | J103: 3
A104: ='Ｂコート組合せ先発 (3)'!B8 -> 268 | B104: 100 | C104: 吉益 督 | D104: 男 | E104: 上尾 | F104: 前 | G104: Ｂ | H104: 黄 | I104: 1 | J104: 4
A105: ='Ｂコート組合せ先発 (3)'!B9 -> 115 | B105: 101 | C105: 池田 公輔 | D105: 男 | E105: 七里 | F105: 前 | G105: Ｂ | H105: 黄 | I105: 1 | J105: 5
A106: ='Ｂコート組合せ先発 (3)'!B10 -> 295 | B106: 102 | C106: 石塚 雅江 | D106: 女 | E106: 草加 | F106: 前 | G106: Ｂ | H106: 黄 | I106: 1 | J106: 6
A107: ='Ｂコート組合せ先発 (3)'!B11 -> 105 | B107: 103 | C107: 飯島 靜子 | D107: 女 | E107: 片柳 | F107: 前 | G107: Ｂ | H107: 黄 | I107: 2 | J107: 1
A108: ='Ｂコート組合せ先発 (3)'!B12 -> 236 | B108: 104 | C108: 上西 忠利 | D108: 男 | E108: さい与野 | F108: 前 | G108: Ｂ | H108: 黄 | I108: 2 | J108: 2
A109: ='Ｂコート組合せ先発 (3)'!B13 -> 3 | B109: 105 | C109: 藤井 ヒロ子 | D109: 女 | E109: さい岩槻 | F109: 前 | G109: Ｂ | H109: 黄 | I109: 2 | J109: 3
A110: ='Ｂコート組合せ先発 (3)'!B14 -> 314 | B110: 106 | C110: 櫻澤 幹雄 | D110: 男 | E110: 深谷 | F110: 前 | G110: Ｂ | H110: 黄 | I110: 2 | J110: 4
A111: ='Ｂコート組合せ先発 (3)'!B15 -> 70 | B111: 107 | C111: 高島 節子 | D111: 女 | E111: 春岡 | F111: 前 | G111: Ｂ | H111: 黄 | I111: 2 | J111: 5
A112: ='Ｂコート組合せ先発 (3)'!B16 -> 294 | B112: 108 | C112: 日向 六郎 | D112: 男 | E112: 草加 | F112: 前 | G112: Ｂ | H112: 黄 | I112: 2 | J112: 6
... A148: ='Ｂコート組合せ先発 (3)'!B52 -> 186 | B148: 144 | C148: 畠山 栄子 | D148: 女 | E148: 片柳 | F148: 前 | G148: Ｂ | H148: 黄 | I148: 8 | J148: 6
A149: ='Ｂコート組合せ先発 (3)'!I5 -> 153 | B149: 145 | C149: 切敷 鉄之助 | D149: 男 | E149: 宮原 | F149: 前 | G149: Ｂ | H149: 緑 | I149: 1 | J149: 1
A150: ='Ｂコート組合せ先発 (3)'!I6 -> 296 | B150: 146 | C150: 阿部 義則 | D150: 男 | E150: 草加 | F150: 前 | G150: Ｂ | H150: 緑 | I150: 1 | J150: 2
A151: ='Ｂコート組合せ先発 (3)'!I7 -> 134 | B151: 147 | C151: 田中 洋子 | D151: 女 | E151: 春岡 | F151: 前 | G151: Ｂ | H151: 緑 | I151: 1 | J151: 3
A152: ='Ｂコート組合せ先発 (3)'!I8 -> 267 | B152: 148 | C152: 大島 照男 | D152: 男 | E152: 上尾 | F152: 前 | G152: Ｂ | H152: 緑 | I152: 1 | J152: 4
A153: ='Ｂコート組合せ先発 (3)'!I9 -> 184 | B153: 149 | C153: 塚脇 勝子 | D153: 女 | E153: 七里 | F153: 前 | G153: Ｂ | H153: 緑 | I153: 1 | J153: 5
A154: ='Ｂコート組合せ先発 (3)'!I10 -> 44 | B154: 150 | C154: 原田 忠 | D154: 男 | E154: さい岩槻 | F154: 前 | G154: Ｂ | H154: 緑 | I154: 1 | J154: 6
A155: ='Ｂコート組合せ先発 (3)'!I11 -> 143 | B155: 151 | C155: 黒須 満枝 | D155: 女 | E155: 大砂土東 | F155: 前 | G155: Ｂ | H155: 緑 | I155: 2 | J155: 1
A156: ='Ｂコート組合せ先発 (3)'!I12 -> 229 | B156: 152 | C156: 中田 逸男 | D156: 男 | E156: 七里 | F156: 前 | G156: Ｂ | H156: 緑 | I156: 2 | J156: 2
A157: ='Ｂコート組合せ先発 (3)'!I13 -> 333 | B157: 153 | C157: 岡田 恵美子 | D157: 女 | E157: 伊奈 | F157: 前 | G157: Ｂ | H157: 緑 | I157: 2 | J157: 3
A158: ='Ｂコート組合せ先発 (3)'!I14 -> 304 | B158: 154 | C158: 石塚 章 | D158: 男 | E158: 草加 | F158: 前 | G158: Ｂ | H158: 緑 | I158: 2 | J158: 4
A159: ='Ｂコート組合せ先発 (3)'!I15 -> 211 | B159: 155 | C159: 松本 はま | D159: 女 | E159: 春岡 | F159: 前 | G159: Ｂ | H159: 緑 | I159: 2 | J159: 5
A160: ='Ｂコート組合せ先発 (3)'!I16 -> 47 | B160: 156 | C160: 田中 一巳 | D160: 男 | E160: さい岩槻 | F160: 前 | G160: Ｂ | H160: 緑 | I160: 2 | J160: 6
... A195: ='Ｂコート組合せ先発 (3)'!I51 -> 27 | B195: 191 | C195: 田中 清 | D195: 男 | E195: さい岩槻 | F195: 前 | G195: Ｂ | H195: 緑 | I195: 8 | J195: 5
A196: ='Ｂコート組合せ先発 (3)'!I52 -> 334 | B196: 192 | C196: 中村栄都子 | D196: 女 | E196: 伊奈 | F196: 前 | G196: Ｂ | H196: 緑 | I196: 8 | J196: 6 | K196: 前
A197: ='Ａコート組合せ後発 (2)'!B5 -> 89 | B197: 193 | C197: 林 俊子 | D197: 女 | E197: 片柳 | F197: 後 | G197: Ａ | H197: 赤 | I197: 1 | J197: 1
A198: ='Ａコート組合せ後発 (2)'!B6 -> 320 | B198: 194 | C198: 天野 隆司 | D198: 男 | E198: 川越 | F198: 後 | G198: Ａ | H198: 赤 | I198: 1 | J198: 2
A199: ='Ａコート組合せ後発 (2)'!B7 -> 79 | B199: 195 | C199: 森 恵美子 | D199: 女 | E199: 南 | F199: 後 | G199: Ａ | H199: 赤 | I199: 1 | J199: 3
A200: ='Ａコート組合せ後発 (2)'!B8 -> 344 | B200: 196 | C200: 島村 宣次 | D200: 男 | E200: 桶川 | F200: 後 | G200: Ａ | H200: 赤 | I200: 1 | J200: 4
A201: ='Ａコート組合せ後発 (2)'!B9 -> 15 | B201: 197 | C201: 栗原 よし子 | D201: 女 | E201: さい岩槻 | F201: 後 | G201: Ａ | H201: 赤 | I201: 1 | J201: 5
A202: ='Ａコート組合せ後発 (2)'!B11 -> 72 | B202: 198 | C202: 三輪 文男 | D202: 男 | E202: 大砂土東 | F202: 後 | G202: Ａ | H202: 赤 | I202: 2 | J202: 1
A203: ='Ａコート組合せ後発 (2)'!B12 -> 7 | B203: 199 | C203: 斉須 勝子 | D203: 女 | E203: さい岩槻 | F203: 後 | G203: Ａ | H203: 赤 | I203: 2 | J203: 2
A204: ='Ａコート組合せ後発 (2)'!B13 -> 336 | B204: 200 | C204: 古瀬 修策 | D204: 男 | E204: 伊奈 | F204: 後 | G204: Ａ | H204: 赤 | I204: 2 | J204: 3
A205: ='Ａコート組合せ後発 (2)'!B14 -> 95 | B205: 201 | C205: 金井塚江美子 | D205: 女 | E205: 春岡 | F205: 後 | G205: Ａ | H205: 赤 | I205: 2 | J205: 4
A206: ='Ａコート組合せ後発 (2)'!B15 -> 298 | B206: 202 | C206: 神門 哲夫 | D206: 男 | E206: 草加 | F206: 後 | G206: Ａ | H206: 赤 | I206: 2 | J206: 5
A207: ='Ａコート組合せ後発 (2)'!B17 -> 113 | B207: 203 | C207: 木村 やい子 | D207: 女 | E207: 指扇 | F207: 後 | G207: Ａ | H207: 赤 | I207: 3 | J207: 1
A208: ='Ａコート組合せ後発 (2)'!B18 -> 293 | B208: 204 | C208: 若林 重雄 | D208: 男 | E208: 草加 | F208: 後 | G208: Ａ | H208: 赤 | I208: 3 | J208: 2
A209: ='Ａコート組合せ後発 (2)'!B19 -> 263 | B209: 205 | C209: 吉井 夏 | D209: 女 | E209: 上尾 | F209: 後 | G209: Ａ | H209: 赤 | I209: 3 | J209: 3
A210: ='Ａコート組合せ後発 (2)'!B20 -> 217 | B210: 206 | C210: 奥野 徳之 | D210: 男 | E210: 七里 | F210: 後 | G210: Ａ | H210: 赤 | I210: 3 | J210: 4
A211: ='Ａコート組合せ後発 (2)'!B21 -> 16 | B211: 207 | C211: 新井 きぬ子 | D211: 女 | E211: さい岩槻 | F211: 後 | G211: Ａ | H211: 赤 | I211: 3 | J211: 5
A212: ='Ａコート組合せ後発 (2)'!B23 -> 193 | B212: 208 | C212: 小島 佳子 | D212: 女 | E212: 片柳 | F212: 後 | G212: Ａ | H212: 赤 | I212: 4 | J212: 1
A213: ='Ａコート組合せ後発 (2)'!B24 -> 318 | B213: 209 | C213: 誉田 哲男 | D213: 男 | E213: 川越 | F213: 後 | G213: Ａ | H213: 赤 | I213: 4 | J213: 2
A214: ='Ａコート組合せ後発 (2)'!B25 -> 215 | B214: 210 | C214: 内藤 充 | D214: 男 | E214: 七里 | F214: 後 | G214: Ａ | H214: 赤 | I214: 4 | J214: 3
A215: ='Ａコート組合せ後発 (2)'!B26 -> 96 | B215: 211 | C215: 三角 節子 | D215: 女 | E215: 春岡 | F215: 後 | G215: Ａ | H215: 赤 | I215: 4 | J215: 4
A216: ='Ａコート組合せ後発 (2)'!B27 -> 31 | B216: 212 | C216: 斉藤 喜美子 | D216: 女 | E216: さい岩槻 | F216: 後 | G216: Ａ | H216: 赤 | I216: 4 | J216: 5
A217: ='Ａコート組合せ後発 (2)'!B29 -> 101 | B217: 213 | C217: 袴田 歳暘 | D217: 男 | E217: 春岡 | F217: 後 | G217: Ａ | H217: 赤 | I217: 5 | J217: 1
A218: ='Ａコート組合せ後発 (2)'!B30 -> 60 | B218: 214 | C218: 中島 輝夫 | D218: 男 | E218: さい岩槻 | F218: 後 | G218: Ａ | H218: 赤 | I218: 5 | J218: 2
A219: ='Ａコート組合せ後発 (2)'!B31 -> 277 | B219: 215 | C219: 森田 紀子 | D219: 女 | E219: 熊谷 | F219: 後 | G219: Ａ | H219: 赤 | I219: 5 | J219: 3
A220: ='Ａコート組合せ後発 (2)'!B32 -> 256 | B220: 216 | C220: 田村 正明 | D220: 男 | E220: さい与野 | F220: 後 | G220: Ａ | H220: 赤 | I220: 5 | J220: 4
A221: ='Ａコート組合せ後発 (2)'!B33 -> 198 | B221: 217 | C221: 土方 セイ子 | D221: 女 | E221: 大砂土東 | F221: 後 | G221: Ａ | H221: 赤 | I221: 5 | J221: 5
A222: ='Ａコート組合せ後発 (2)'!B34 -> 347 | B222: 218 | C222: 上利 綾子 | D222: 女 | E222: 桶川 | F222: 後 | G222: Ａ | H222: 赤 | I222: 5 | J222: 6
A223: ='Ａコート組合せ後発 (2)'!B35 -> 100 | B223: 219 | C223: 森戸 孝夫 | D223: 男 | E223: 春岡 | F223: 後 | G223: Ａ | H223: 赤 | I223: 6 | J223: 1
A224: ='Ａコート組合せ後発 (2)'!B36 -> 32 | B224: 220 | C224: 巴山 富子 | D224: 女 | E224: さい岩槻 | F224: 後 | G224: Ａ | H224: 赤 | I224: 6 | J224: 2
A225: ='Ａコート組合せ後発 (2)'!B37 -> 338 | B225: 221 | C225: 坪野 昭夫 | D225: 男 | E225: 伊奈 | F225: 後 | G225: Ａ | H225: 赤 | I225: 6 | J225: 3
A226: ='Ａコート組合せ後発 (2)'!B38 -> 176 | B226: 222 | C226: 野澤 栄子 | D226: 女 | E226: 指扇 | F226: 後 | G226: Ａ | H226: 赤 | I226: 6 | J226: 4
A227: ='Ａコート組合せ後発 (2)'!B39 -> 324 | B227: 223 | C227: 中村 武士 | D227: 男 | E227: 川越 | F227: 後 | G227: Ａ | H227: 赤 | I227: 6 | J227: 5
A228: ='Ａコート組合せ後発 (2)'!B41 -> 187 | B228: 224 | C228: 斉藤 一郎 | D228: 男 | E228: 片柳 | F228: 後 | G228: Ａ | H228: 赤 | I228: 7 | J228: 1
A229: ='Ａコート組合せ後発 (2)'!B42 -> 179 | B229: 225 | C229: 宮澤 一男 | D229: 男 | E229: 大砂土東 | F229: 後 | G229: Ａ | H229: 赤 | I229: 7 | J229: 2
A230: ='Ａコート組合せ後発 (2)'!B43 -> 252 | B230: 226 | C230: 高野 久佐子 | D230: 女 | E230: さい与野 | F230: 後 | G230: Ａ | H230: 赤 | I230: 7 | J230: 3
A231: ='Ａコート組合せ後発 (2)'!B44 -> 200 | B231: 227 | C231: 豊嶋 孝俊 | D231: 男 | E231: 七里 | F231: 後 | G231: Ａ | H231: 赤 | I231: 7 | J231: 4
A232: ='Ａコート組合せ後発 (2)'!B45 -> 29 | B232: 228 | C232: 吉田 智江 | D232: 女 | E232: さい岩槻 | F232: 後 | G232: Ａ | H232: 赤 | I232: 7 | J232: 5
A233: ='Ａコート組合せ後発 (2)'!B47 -> 182 | B233: 229 | C233: 酒井 康之 | D233: 男 | E233: 日進 | F233: 後 | G233: Ａ | H233: 赤 | I233: 8 | J233: 1
A234: ='Ａコート組合せ後発 (2)'!B48 -> 300 | B234: 230 | C234: 小櫃 英夫 | D234: 男 | E234: 草加 | F234: 後 | G234: Ａ | H234: 赤 | I234: 8 | J234: 2
A235: ='Ａコート組合せ後発 (2)'!B49 -> 195 | B235: 231 | C235: 能町 富子 | D235: 女 | E235: 片柳 | F235: 後 | G235: Ａ | H235: 赤 | I235: 8 | J235: 3
A236: ='Ａコート組合せ後発 (2)'!B50 -> 343 | B236: 232 | C236: 安斉 宏 | D236: 男 | E236: 桶川 | F236: 後 | G236: Ａ | H236: 赤 | I236: 8 | J236: 4
A237: ='Ａコート組合せ後発 (2)'!B51 -> 65 | B237: 233 | C237: 森本 春河 | D237: 女 | E237: さい岩槻 | F237: 後 | G237: Ａ | H237: 赤 | I237: 8 | J237: 5
A238: ='Ａコート組合せ後発 (2)'!I5 -> 121 | B238: 234 | C238: 平田 朝子 | D238: 女 | E238: 片柳 | F238: 後 | G238: Ａ | H238: 青 | I238: 1 | J238: 1
A239: ='Ａコート組合せ後発 (2)'!I6 -> 61 | B239: 235 | C239: 高橋 輝行 | D239: 男 | E239: さい岩槻 | F239: 後 | G239: Ａ | H239: 青 | I239: 1 | J239: 2
A240: ='Ａコート組合せ後発 (2)'!I7 -> 262 | B240: 236 | C240: 石川 春江 | D240: 女 | E240: 上尾 | F240: 後 | G240: Ａ | H240: 青 | I240: 1 | J240: 3
A241: ='Ａコート組合せ後発 (2)'!I8 -> 216 | B241: 237 | C241: 小野寺 澄江 | D241: 女 | E241: 七里 | F241: 後 | G241: Ａ | H241: 青 | I241: 1 | J241: 4
...

Sheet 地区別スタート
B2: 第16回おおみや大会所属別スタートホール案内
B4: 連番 | C4: 氏名 | D4: 性別 | E4: 所属 | F4: 班 | G4: ﾌﾞﾛｯｸ | H4: コース | I4: ホール | J4: 打順
A5: ='Ｂコート組合せ先発 (3)'!B26 -> 1 | B5: 118 | C5: 小瀧 富子 | D5: 女 | E5: さい岩槻 | F5: 前 | G5: Ｂ | H5: 黄 | I5: 4 | J5: 4
A6: =Ａコート組合せ先発!I30 -> 2 | B6: 74 | C6: 矢作 安子 | D6: 女 | E6: さい岩槻 | F6: 前 | G6: Ａ | H6: 青 | I6: 5 | J6: 2
A7: ='Ｂコート組合せ先発 (3)'!B13 -> 3 | B7: 105 | C7: 藤井 ヒロ子 | D7: 女 | E7: さい岩槻 | F7: 前 | G7: Ｂ | H7: 黄 | I7: 2 | J7: 3
A8: ='Ｂコート組合せ先発 (3)'!I18 -> 4 | B8: 158 | C8: 町田 博 | D8: 男 | E8: さい岩槻 | F8: 前 | G8: Ｂ | H8: 緑 | I8: 3 | J8: 2
A9: =Ａコート組合せ先発!B37 -> 5 | B9: 33 | C9: 町田 民子 | D9: 女 | E9: さい岩槻 | F9: 前 | G9: Ａ | H9: 赤 | I9: 6 | J9: 3
A10: =Ａコート組合せ先発!B52 -> 6 | B10: 48 | C10: 森屋 カヨ子 | D10: 女 | E10: さい岩槻 | F10: 前 | G10: Ａ | H10: 赤 | I10: 8 | J10: 6
A11: ='Ａコート組合せ後発 (2)'!B12 -> 7 | B11: 199 | C11: 斉須 勝子 | D11: 女 | E11: さい岩槻 | F11: 後 | G11: Ａ | H11: 赤 | I11: 2 | J11: 2
A12: ='Ｂコート組合せ先発 (3)'!B33 -> 8 | B12: 125 | C12: 黒澤 重子 | D12: 女 | E12: さい岩槻 | F12: 前 | G12: Ｂ | H12: 黄 | I12: 5 | J12: 5
A13: ='Ａコート組合せ後発 (2)'!I14 -> 9 | B13: 242 | C13: 森田 静子 | D13: 女 | E13: さい岩槻 | F13: 後 | G13: Ａ | H13: 青 | I13: 2 | J13: 4
A14: ='Ｂコート組合せ後発 (4)'!B8 -> 10 | B14: 278 | C14: 新井 秀夫 | D14: 男 | E14: さい岩槻 | F14: 後 | G14: Ａ | H14: 黄 | I14: 1 | J14: 4
A15: =Ａコート組合せ先発!B9 -> 11 | B15: 5 | C15: 井田 貢 | D15: 男 | E15: さい岩槻 | F15: 前 | G15: Ａ | H15: 赤 | I15: 1 | J15: 5
A16: ='Ｂコート組合せ後発 (4)'!I9 -> 12 | B16: 320 | C16: 久保山 和雄 | D16: 男 | E16: さい岩槻 | F16: 後 | G16: Ｂ | H16: 緑 | I16: 1 | J16: 5
A17: ='Ｂコート組合せ先発 (3)'!B46 -> 13 | B17: 138 | C17: 三上 玲子 | D17: 女 | E17: さい岩槻 | F17: 前 | G17: Ｂ | H17: 黄 | I17: 7 | J17: 6
A18: =Ａコート組合せ先発!B21 -> 14 | B18: 17 | C18: 濱野 光男 | D18: 男 | E18: さい岩槻 | F18: 前 | G18: Ａ | H18: 赤 | I18: 3 | J18: 5
A19: ='Ａコート組合せ後発 (2)'!B9 -> 15 | B19: 197 | C19: 栗原 よし子 | D19: 女 | E19: さい岩槻 | F19: 後 | G19: Ａ | H19: 赤 | I19: 1 | J19: 5
A20: ='Ａコート組合せ後発 (2)'!B21 -> 16 | B20: 207 | C20: 新井 きぬ子 | D20: 女 | E20: さい岩槻 | F20: 後 | G20: Ａ | H20: 赤 | I20: 3 | J20: 5
A21: =Ａコート組合せ先発!B26 -> 17 | B21: 22 | C21: 中川 正幹 | D21: 男 | E21: さい岩槻 | F21: 前 | G21: Ａ | H21: 赤 | I21: 4 | J21: 4
A22: ='Ｂコート組合せ先発 (3)'!B21 -> 18 | B22: 113 | C22: 矢作 順作 | D22: 男 | E22: さい岩槻 | F22: 前 | G22: Ｂ | H22: 黄 | I22: 3 | J22: 5
A23: ='Ｂコート組合せ後発 (4)'!B18 -> 19 | B23: 286 | C23: 鈴木 輝志郎 | D23: 男 | E23: さい岩槻 | F23: 後 | G23: Ａ | H23: 黄 | I23: 3 | J23: 2
A24: ='Ｂコート組合せ先発 (3)'!I46 -> 20 | B24: 186 | C24: 土屋 すみ子 | D24: 女 | E24: さい岩槻 | F24: 前 | G24: Ｂ | H24: 緑 | I24: 7 | J24: 6
A25: ='Ａコート組合せ後発 (2)'!I24 -> 21 | B25: 250 | C25: 依田 美智子 | D25: 女 | E25: さい岩槻 | F25: 後 | G25: Ａ | H25: 青 | I25: 4 | J25: 2
A26: =Ａコート組合せ先発!I52 -> 22 | B26: 96 | C26: 中村 勇 | D26: 男 | E26: さい岩槻 | F26: 前 | G26: Ａ | H26: 青 | I26: 8 | J26: 6
A27: =Ａコート組合せ先発!B34 -> 23 | B27: 30 | C27: 小川 信勝 | D27: 男 | E27: さい岩槻 | F27: 前 | G27: Ａ | H27: 赤 | I27: 5 | J27: 6
A28: =Ａコート組合せ先発!I39 -> 24 | B28: 83 | C28: 中村 富蔵 | D28: 男 | E28: さい岩槻 | F28: 前 | G28: Ａ | H28: 青 | I28: 6 | J28: 5
A29: ='Ｂコート組合せ先発 (3)'!I34 -> 25 | B29: 174 | C29: 小倉 美津江 | D29: 女 | E29: さい岩槻 | F29: 前 | G29: Ｂ | H29: 緑 | I29: 5 | J29: 6
A30: =Ａコート組合せ先発!I15 -> 26 | B30: 59 | C30: 高坂 利治 | D30: 男 | E30: さい岩槻 | F30: 前 | G30: Ａ | H30: 青 | I30: 2 | J30: 5
A31: ='Ｂコート組合せ先発 (3)'!I51 -> 27 | B31: 191 | C31: 田中 清 | D31: 男 | E31: さい岩槻 | F31: 前 | G31: Ｂ | H31: 緑 | I31: 8 | J31: 5
A32: ='Ｂコート組合せ先発 (3)'!B36 -> 28 | B32: 128 | C32: 内山 和子 | D32: 女 | E32: さい岩槻 | F32: 前 | G32: Ｂ | H32: 黄 | I32: 6 | J32: 2
A33: ='Ａコート組合せ後発 (2)'!B45 -> 29 | B33: 228 | C33: 吉田 智江 | D33: 女 | E33: さい岩槻 | F33: 後 | G33: Ａ | H33: 赤 | I33: 7 | J33: 5
A34: ='Ａコート組合せ後発 (2)'!I36 -> 30 | B34: 261 | C34: 内山 トミ子 | D34: 女 | E34: さい岩槻 | F34: 後 | G34: Ａ | H34: 青 | I34: 6 | J34: 2
A35: ='Ａコート組合せ後発 (2)'!B27 -> 31 | B35: 212 | C35: 斉藤 喜美子 | D35: 女 | E35: さい岩槻 | F35: 後 | G35: Ａ | H35: 赤 | I35: 4 | J35: 5
A36: ='Ａコート組合せ後発 (2)'!B36 -> 32 | B36: 220 | C36: 巴山 富子 | D36: 女 | E36: さい岩槻 | F36: 後 | G36: Ａ | H36: 赤 | I36: 6 | J36: 2
A37: =Ａコート組合せ先発!I45 -> 33 | B37: 89 | C37: 作馬 悟 | D37: 男 | E37: さい岩槻 | F37: 前 | G37: Ａ | H37: 青 | I37: 7 | J37: 5
A38: ='Ｂコート組合せ先発 (3)'!B51 -> 34 | B38: 143 | C38: 那須 新喜 | D38: 男 | E38: さい岩槻 | F38: 前 | G38: Ｂ | H38: 黄 | I38: 8 | J38: 5
A39: ='Ｂコート組合せ先発 (3)'!B6 -> 35 | B39: 98 | C39: 赤羽 義男 | D39: 男 | E39: さい岩槻 | F39: 前 | G39: Ｂ | H39: 黄 | I39: 1 | J39: 2
A40: =Ａコート組合せ先発!I28 -> 36 | B40: 72 | C40: 朝倉 ヒサ子 | D40: 女 | E40: さい岩槻 | F40: 前 | G40: Ａ | H40: 青 | I40: 4 | J40: 6
A41: ='Ａコート組合せ後発 (2)'!I42 -> 37 | B41: 266 | C41: 坂間 静江 | D41: 女 | E41: さい岩槻 | F41: 後 | G41: Ａ | H41: 青 | I41: 7 | J41: 2
A42: ='Ｂコート組合せ後発 (4)'!I13 -> 38 | B42: 323 | C42: 中村 由利子 | D42: 女 | E42: さい岩槻 | F42: 後 | G42: Ｂ | H42: 緑 | I42: 2 | J42: 3
A43: =Ａコート組合せ先発!I48 -> 39 | B43: 92 | C43: 市原 蔦子 | D43: 女 | E43: さい岩槻 | F43: 前 | G43: Ａ | H43: 青 | I43: 8 | J43: 2
A44: ='Ｂコート組合せ後発 (4)'!I30 -> 40 | B44: 337 | C44: 小林 喜代子 | D44: 女 | E44: さい岩槻 | F44: 後 | G44: Ｂ | H44: 緑 | I44: 5 | J44: 2
A45: ='Ｂコート組合せ先発 (3)'!I42 -> 41 | B45: 182 | C45: 荒川 直代 | D45: 女 | E45: さい岩槻 | F45: 前 | G45: Ｂ | H45: 緑 | I45: 7 | J45: 2
A46: ='Ｂコート組合せ後発 (4)'!B38 -> 42 | B46: 303 | C46: 只木 登志子 | D46: 女 | E46: さい岩槻 | F46: 後 | G46: Ｂ | H46: 黄 | I46: 6 | J46: 4
A47: ='Ｂコート組合せ先発 (3)'!I36 -> 43 | B47: 176 | C47: 西田 正男 | D47: 男 | E47: さい岩槻 | F47: 前 | G47: Ｂ | H47: 緑 | I47: 6 | J47: 2
A48: ='Ｂコート組合せ先発 (3)'!I10 -> 44 | B48: 150 | C48: 原田 忠 | D48: 男 | E48: さい岩槻 | F48: 前 | G48: Ｂ | H48: 緑 | I48: 1 | J48: 6
A49: ='Ｂコート組合せ後発 (4)'!B52 -> 45 | B49: 315 | C49: 新井 節子 | D49: 女 | E49: さい岩槻 | F49: 後 | G49: Ｂ | H49: 黄 | I49: 8 | J49: 6
A50: ='Ｂコート組合せ先発 (3)'!I25 -> 46 | B50: 165 | C50: 澄川 春子 | D50: 女 | E50: さい岩槻 | F50: 前 | G50: Ｂ | H50: 緑 | I50: 4 | J50: 3
A51: ='Ｂコート組合せ先発 (3)'!I16 -> 47 | B51: 156 | C51: 田中 一巳 | D51: 男 | E51: さい岩槻 | F51: 前 | G51: Ｂ | H51: 緑 | I51: 2 | J51: 6
A52: ='Ｂコート組合せ後発 (4)'!I18 -> 48 | B52: 327 | C52: 多ヶ谷 保男 | D52: 男 | E52: さい岩槻 | F52: 後 | G52: Ｂ | H52: 緑 | I52: 3 | J52: 2
A53: ='Ｂコート組合せ後発 (4)'!B44 -> 49 | B53: 308 | C53: 丹治 さく子 | D53: 女 | E53: さい岩槻 | F53: 後 | G53: Ｂ | H53: 黄 | I53: 7 | J53: 4
A54: =Ａコート組合せ先発!I19 -> 50 | B54: 63 | C54: 坂本 十三 | D54: 男 | E54: さい岩槻 | F54: 前 | G54: Ａ | H54: 青 | I54: 3 | J54: 3
A55: ='Ｂコート組合せ後発 (4)'!B27 -> 51 | B55: 294 | C55: 平野 芳和 | D55: 男 | E55: さい岩槻 | F55: 後 | G55: Ｂ | H55: 黄 | I55: 4 | J55: 5
A56: ='Ｂコート組合せ後発 (4)'!I39 -> 52 | B56: 345 | C56: 桑原 京子 | D56: 女 | E56: さい岩槻 | F56: 後 | G56: Ｂ | H56: 緑 | I56: 6 | J56: 5
A57: =Ａコート組合せ先発!B49 -> 53 | B57: 45 | C57: 伊藤 徳雄 | D57: 男 | E57: さい岩槻 | F57: 前 | G57: Ａ | H57: 赤 | I57: 8 | J57: 3
A58: ='Ｂコート組合せ後発 (4)'!B30 -> 54 | B58: 296 | C58: 浜野 礼子 | D58: 女 | E58: さい岩槻 | F58: 後 | G58: Ｂ | H58: 黄 | I58: 5 | J58: 2
A59: =Ａコート組合せ先発!B46 -> 55 | B59: 42 | C59: 大沢 正江 | D59: 女 | E59: さい岩槻 | F59: 前 | G59: Ａ | H59: 赤 | I59: 7 | J59: 6
A60: ='Ｂコート組合せ後発 (4)'!I49 -> 56 | B60: 353 | C60: 三上 龍夫 | D60: 男 | E60: さい岩槻 | F60: 後 | G60: Ｂ | H60: 緑 | I60: 8 | J60: 3
A61: ='Ｂコート組合せ後発 (4)'!I27 -> 57 | B61: ='Ｂコート組合せ後発 (4)'!J27 -> 335 | C61: 一井 宏一 | D61: 男 | E61: さい岩槻 | F61: 後 | G61: Ｂ | H61: 緑 | I61: 4 | J61: 5
A62: ='Ｂコート組合せ後発 (4)'!B14 -> 58 | B62: 283 | C62: 中丸 武夫 | D62: 男 | E62: さい岩槻 | F62: 後 | G62: Ａ | H62: 黄 | I62: 2 | J62: 4
A63: ='Ａコート組合せ後発 (2)'!I18 -> 59 | B63: 245 | C63: 池田 奨 | D63: 男 | E63: さい岩槻 | F63: 後 | G63: Ａ | H63: 青 | I63: 3 | J63: 2
A64: ='Ａコート組合せ後発 (2)'!B30 -> 60 | B64: 214 | C64: 中島 輝夫 | D64: 男 | E64: さい岩槻 | F64: 後 | G64: Ａ | H64: 赤 | I64: 5 | J64: 2
A65: ='Ａコート組合せ後発 (2)'!I6 -> 61 | B65: 235 | C65: 高橋 輝行 | D65: 男 | E65: さい岩槻 | F65: 後 | G65: Ａ | H65: 青 | I65: 1 | J65: 2
A66: ='Ａコート組合せ後発 (2)'!I30 -> 62 | B66: 255 | C66: 大内 洋輔 | D66: 男 | E66: さい岩槻 | F66: 後 | G66: Ａ | H66: 青 | I66: 5 | J66: 2
A67: =Ａコート組合せ先発!B14 -> 63 | B67: 10 | C67: 深津喜代子 | D67: 女 | E67: さい岩槻 | F67: 前 | G67: Ａ | H67: 赤 | I67: 2 | J67: 4
A68: ='Ａコート組合せ後発 (2)'!I49 -> 64 | B68: 272 | C68: 森本新一朗 | D68: 男 | E68: さい岩槻 | F68: 後 | G68: Ａ | H68: 青 | I68: 8 | J68: 3
A69: ='Ａコート組合せ後発 (2)'!B51 -> 65 | B69: 233 | C69: 森本 春河 | D69: 女 | E69: さい岩槻 | F69: 後 | G69: Ａ | H69: 赤 | I69: 8 | J69: 5
A70: =Ａコート組合せ先発!I22 -> 66 | B70: 66 | C70: 吉岩 康江 | D70: 女 | E70: さい岩槻 | F70: 前 | G70: Ａ | H70: 青 | I70: 3 | J70: 6
A71: =Ａコート組合せ先発!I6 -> 67 | B71: 50 | C71: 菊池 春子 | D71: 女 | E71: さい岩槻 | F71: 前 | G71: Ａ | H71: 青 | I71: 1 | J71: 2
A72: =Ａコート組合せ先発!I17 -> 80 | B72: 61 | C72: 清水 廣一 | D72: 男 | E72: 宮原 | F72: 前 | G72: Ａ | H72: 青 | I72: 3 | J72: 1
A73: ='Ａコート組合せ後発 (2)'!I23 -> 107 | B73: 249 | C73: 戸谷 雅博 | D73: 男 | E73: 宮原 | F73: 後 | G73: Ａ | H73: 青 | I73: 4 | J73: 1
A74: ='Ｂコート組合せ後発 (4)'!I25 -> 111 | B74: ='Ｂコート組合せ後発 (4)'!J25 -> 333 | C74: 原田 鉄雄 | D74: 男 | E74: 宮原 | F74: 後 | G74: Ｂ | H74: 緑 | I74: 4 | J74: 3
A75: ='Ｂコート組合せ先発 (3)'!I5 -> 153 | B75: 145 | C75: 切敷 鉄之助 | D75: 男 | E75: 宮原 | F75: 前 | G75: Ｂ | H75: 緑 | I75: 1 | J75: 1
A76: =Ａコート組合せ先発!B17 -> 164 | B76: 13 | C76: 中澤 亨 | D76: 男 | E76: 宮原 | F76: 前 | G76: Ａ | H76: 赤 | I76: 3 | J76: 1
A77: ='Ａコート組合せ後発 (2)'!I13 -> 196 | B77: 241 | C77: 大谷 仁 | D77: 男 | E77: 宮原 | F77: 後 | G77: Ａ | H77: 青 | I77: 2 | J77: 3
A78: ='Ａコート組合せ後発 (2)'!I29 -> 205 | B78: 254 | C78: 岸 文夫 | D78: 男 | E78: 宮原 | F78: 後 | G78: Ａ | H78: 青 | I78: 5 | J78: 1
A79: ='Ｂコート組合せ後発 (4)'!B17 -> 69 | B79: 285 | C79: 林 永子 | D79: 女 | E79: 指扇 | F79: 後 | G79: Ａ | H79: 黄 | I79: 3 | J79: 1
A80: ='Ｂコート組合せ後発 (4)'!B51 -> 76 | B80: 314 | C80: 斉藤 保夫 | D80: 男 | E80: 指扇 | F80: 後 | G80: Ｂ | H80: 黄 | I80: 8 | J80: 5
A81: ='Ｂコート組合せ先発 (3)'!B29 -> 77 | B81: 121 | C81: 秋山 悦 | D81: 男 | E81: 指扇 | F81: 前 | G81: Ｂ | H81: 黄 | I81: 5 | J81: 1
A82: =Ａコート組合せ先発!B33 -> 86 | B82: 29 | C82: 小久保せつ子 | D82: 女 | E82: 指扇 | F82: 前 | G82: Ａ | H82: 赤 | I82: 5 | J82: 5
A83: =Ａコート組合せ先発!I5 -> 87 | B83: 49 | C83: 金子 元美 | D83: 女 | E83: 指扇 | F83: 前 | G83: Ａ | H83: 青 | I83: 1 | J83: 1
A84: =Ａコート組合せ先発!I14 -> 108 | B84: 58 | C84: 鈴木 智代 | D84: 女 | E84: 指扇 | F84: 前 | G84: Ａ | H84: 青 | I84: 2 | J84: 4
A85: ='Ａコート組合せ後発 (2)'!B17 -> 113 | B85: 203 | C85: 木村 やい子 | D85: 女 | E85: 指扇 | F85: 後 | G85: Ａ | H85: 赤 | I85: 3 | J85: 1
A86: =Ａコート組合せ先発!I24 -> 119 | B86: 68 | C86: 細田 友子 | D86: 女 | E86: 指扇 | F86: 前 | G86: Ａ | H86: 青 | I86: 4 | J86: 2
A87: =Ａコート組合せ先発!B8 -> 140 | B87: 4 | C87: 大須賀 綾子 | D87: 女 | E87: 指扇 | F87: 前 | G87: Ａ | H87: 赤 | I87: 1 | J87: 4
A88: =Ａコート組合せ先発!I38 -> 167 | B88: 82 | C88: 青木 清子 | D88: 女 | E88: 指扇 | F88: 前 | G88: Ａ | H88: 青 | I88: 6 | J88: 4
A89: ='Ｂコート組合せ後発 (4)'!I7 -> 170 | B89: 318 | C89: 野澤 俊雄 | D89: 男 | E89: 指扇 | F89: 後 | G89: Ｂ | H89: 緑 | I89: 1 | J89: 3
A90: ='Ａコート組合せ後発 (2)'!B38 -> 176 | B90: 222 | C90: 野澤 栄子 | D90: 女 | E90: 指扇 | F90: 後 | G90: Ａ | H90: 赤 | I90: 6 | J90: 4
A91: ='Ｂコート組合せ後発 (4)'!I41 -> 189 | B91: 346 | C91: 早戸 憲吾 | D91: 男 | E91: 指扇 | F91: 後 | G91: Ｂ | H91: 緑 | I91: 7 | J91: 1
A92: ='Ｂコート組合せ後発 (4)'!B32 -> 194 | B92: 298 | C92: 千葉 みつ子 | D92: 女 | E92: 指扇 | F92: 後 | G92: Ｂ | H92: 黄 | I92: 5 | J92: 4
A93: ='Ｂコート組合せ先発 (3)'!I38 -> 206 | B93: 178 | C93: 五井 秀司 | D93: 男 | E93: 指扇 | F93: 前 | G93: Ｂ | H93: 緑 | I93: 6 | J93: 4
A94: ='Ｂコート組合せ後発 (4)'!I37 -> 219 | B94: 343 | C94: 小林 八栄子 | D94: 女 | E94: 指扇 | F94: 後 | G94: Ｂ | H94: 緑 | I94: 6 | J94: 3
A95: =Ａコート組合せ先発!B41 -> 220 | B95: 37 | C95: 国島 秀夫 | D95: 男 | E95: 指扇 | F95: 前 | G95: Ａ | H95: 赤 | I95: 7 | J95: 1
A96: ='Ａコート組合せ後発 (2)'!I26 -> 230 | B96: 252 | C96: 金本 登美 | D96: 女 | E96: 指扇 | F96: 後 | G96: Ａ | H96: 青 | I96: 4 | J96: 4
A97: ='Ｂコート組合せ先発 (3)'!I27 -> 90 | B97: 167 | C97: 鈴木 美智子 | D97: 女 | E97: 七里 | F97: 前 | G97: Ｂ | H97: 緑 | I97: 4 | J97: 5
A98: =Ａコート組合せ先発!I8 -> 91 | B98: 52 | C98: 遠藤 英子 | D98: 女 | E98: 七里 | F98: 前 | G98: Ａ | H98: 青 | I98: 1 | J98: 4
A99: ='Ｂコート組合せ先発 (3)'!B30 -> 92 | B99: 122 | C99: 西村 江津子 | D99: 女 | E99: 七里 | F99: 前 | G99: Ｂ | H99: 黄 | I99: 5 | J99: 2
A100: ='Ａコート組合せ後発 (2)'!I47 -> 93 | B100: 270 | C100: 池上 謙佑 | D100: 男 | E100: 七里 | F100: 後 | G100: Ａ | H100: 青 | I100: 8 | J100: 1
A101: ='Ｂコート組合せ後発 (4)'!I11 -> 94 | B101: 321 | C101: 大金 節子 | D101: 女 | E101: 七里 | F101: 後 | G101: Ｂ | H101: 緑 | I101: 2 | J101: 1
A102: ='Ｂコート組合せ先発 (3)'!I41 -> 102 | B102: 181 | C102: 島田 敏和 | D102: 男 | E102: 七里 | F102: 前 | G102: Ｂ | H102: 緑 | I102: 7 | J102: 1
...

Sheet Sheet1
